BEGIN:VCALENDAR
VERSION:2.0
PRODID:-//Watch All Blacks Rugby - ECPv6.15.20//NONSGML v1.0//EN
CALSCALE:GREGORIAN
METHOD:PUBLISH
X-ORIGINAL-URL:https://watchallblacks.com
X-WR-CALDESC:Events for Watch All Blacks Rugby
REFRESH-INTERVAL;VALUE=DURATION:PT1H
X-Robots-Tag:noindex
X-PUBLISHED-TTL:PT1H
BEGIN:VTIMEZONE
TZID:UTC
BEGIN:STANDARD
TZOFFSETFROM:+0000
TZOFFSETTO:+0000
TZNAME:UTC
DTSTART:20250101T000000
END:STANDARD
END:VTIMEZONE
BEGIN:VEVENT
DTSTART;TZID=UTC:20261227T193000
DTEND;TZID=UTC:20261227T223000
DTSTAMP:20260419T182133
CREATED:20251231T184822Z
LAST-MODIFIED:20251231T184822Z
UID:534-1798399800-1798410600@watchallblacks.com
SUMMARY:Brumbies v Waratahs
DESCRIPTION:A fierce Australian rivalry takes center stage as the Brumbies host the NSW Waratahs at GIO Stadium\, Canberra\, on Friday\, 27 March\, in the 2026 Super Rugby Pacific season. With pride\, momentum\, and vital competition points on the line\, this derby promises intensity and physical rugby under the Friday night lights. \nThe Brumbies will look to make home advantage count in the nation’s capital. Renowned for their structured\, disciplined style\, powerful rolling maul\, and organized defense\, the Canberra-based side aim to control territory and tempo. Playing at GIO Stadium\, they will seek to apply sustained pressure through their forward pack and tactical kicking game. \nThe Waratahs arrive in Canberra eager to challenge their long-standing rivals. Known for their physicality\, set-piece strength\, and growing attacking confidence\, the Sydney-based outfit will look to disrupt the Brumbies’ rhythm and inject pace into the contest through quick ball and direct running.
URL:https://watchallblacks.com/event/brumbies-v-waratahs/
LOCATION:GIO Stadium\, Canberra\, Battye Street\, Bruce ACT 2617\, Canberra\, Australian Capital Territory\, 2617\, Australia
CATEGORIES:Super Rugby Pacific
ATTACH;FMTTYPE=image/jpeg:https://watchallblacks.com/wp-content/uploads/2025/12/Brumbies-v-Waratahs.jpg
ORGANIZER;CN="SANZAAR":MAILTO:info@sanzarrugby.com
END:VEVENT
END:VCALENDAR