BEGIN:VCALENDAR
VERSION:2.0
PRODID:-//Watch All Blacks Rugby - ECPv6.15.20//NONSGML v1.0//EN
CALSCALE:GREGORIAN
METHOD:PUBLISH
X-ORIGINAL-URL:https://watchallblacks.com
X-WR-CALDESC:Events for Watch All Blacks Rugby
REFRESH-INTERVAL;VALUE=DURATION:PT1H
X-Robots-Tag:noindex
X-PUBLISHED-TTL:PT1H
BEGIN:VTIMEZONE
TZID:UTC
BEGIN:STANDARD
TZOFFSETFROM:+0000
TZOFFSETTO:+0000
TZNAME:UTC
DTSTART:20250101T000000
END:STANDARD
END:VTIMEZONE
BEGIN:VEVENT
DTSTART;TZID=UTC:20261220T170000
DTEND;TZID=UTC:20261220T203000
DTSTAMP:20260419T182134
CREATED:20251230T195959Z
LAST-MODIFIED:20251230T195959Z
UID:510-1797786000-1797798600@watchallblacks.com
SUMMARY:Highlanders v Hurricanes
DESCRIPTION:The 2026 Super Rugby Pacific season delivers a compelling all–New Zealand clash as the Highlanders host the Hurricanes at Forsyth Barr Stadium Dunedin\, on Friday\, 20 March. With both sides chasing momentum as the competition intensifies\, this southern showdown promises speed\, physicality\, and high-quality rugby under the roof. \nThe Highlanders will take confidence from playing at home\, where their physical defense\, relentless work rate\, and commitment at the breakdown are well suited to the fast\, controlled conditions of Forsyth Barr Stadium. The Dunedin-based side will aim to dominate the contact area and build pressure through disciplined forward play. \nThe Hurricanes arrive in the south known for their attacking flair and tempo-driven style. Featuring quick recycling at the breakdown\, sharp ball movement\, and creative backline play\, the Wellington outfit will look to stretch the Highlanders’ defense and exploit space across the park.
URL:https://watchallblacks.com/event/highlanders-v-hurricanes/
LOCATION:Forsyth Barr Stadium\, 130 Anzac Avenue\, Central Dunedin\, Dunedin\, 9058\, New Zealand
CATEGORIES:Super Rugby Pacific
ATTACH;FMTTYPE=image/jpeg:https://watchallblacks.com/wp-content/uploads/2025/12/Highlanders-v-Hurricanes.jpg
ORGANIZER;CN="SANZAAR":MAILTO:info@sanzarrugby.com
END:VEVENT
END:VCALENDAR