BEGIN:VCALENDAR
VERSION:2.0
PRODID:-//Watch All Blacks Rugby - ECPv6.15.20//NONSGML v1.0//EN
CALSCALE:GREGORIAN
METHOD:PUBLISH
X-ORIGINAL-URL:https://watchallblacks.com
X-WR-CALDESC:Events for Watch All Blacks Rugby
REFRESH-INTERVAL;VALUE=DURATION:PT1H
X-Robots-Tag:noindex
X-PUBLISHED-TTL:PT1H
BEGIN:VTIMEZONE
TZID:UTC
BEGIN:STANDARD
TZOFFSETFROM:+0000
TZOFFSETTO:+0000
TZNAME:UTC
DTSTART:20250101T000000
END:STANDARD
END:VTIMEZONE
BEGIN:VEVENT
DTSTART;TZID=UTC:20261214T193000
DTEND;TZID=UTC:20261214T223000
DTSTAMP:20260419T182132
CREATED:20251230T195327Z
LAST-MODIFIED:20251230T195327Z
UID:507-1797276600-1797287400@watchallblacks.com
SUMMARY:Reds v Waratahs
DESCRIPTION:One of Australian rugby’s classic rivalries takes center stage in the 2026 Super Rugby Pacific season as the Queensland Reds host the NSW Waratahs at Suncorp Stadium\, Brisbane\, on Saturday\, 14 March. With pride\, momentum\, and crucial competition points on the line\, this derby promises passion and intensity. \nThe Reds will look to make home advantage count at Suncorp Stadium\, where their high-tempo\, attacking style often flourishes. Known for athletic forwards\, strong breakdown presence\, and creative backline play\, the Brisbane-based side will aim to control possession and stretch the Waratahs’ defense with pace and precision. \nThe Waratahs arrive in Brisbane determined to spoil the party. Renowned for their physicality\, structured approach\, and growing attacking confidence\, the Sydney-based outfit will look to impose themselves through set-piece strength\, disciplined defense\, and smart territorial kicking.
URL:https://watchallblacks.com/event/reds-v-waratahs/
LOCATION:Suncorp Stadium\, Brisbane\, 40 Castlemaine Street\, Milton\, Brisbane\, Queensland\, 4064\, Australia
CATEGORIES:Super Rugby Pacific
ATTACH;FMTTYPE=image/jpeg:https://watchallblacks.com/wp-content/uploads/2025/12/Reds-v-Waratahs.jpg
ORGANIZER;CN="SANZAAR":MAILTO:info@sanzarrugby.com
END:VEVENT
END:VCALENDAR